BEGIN:VCALENDAR
VERSION:2.0
PRODID:-//GroupSpaces//NONSGML GS_IcalFeed//EN
X-WR-CALNAME:Cancer Voices Challenge Ride 2014 - CVSA Cycling Team
CALSCALE:GREGORIAN
METHOD:PUBLISH
BEGIN:VEVENT
DTSTAMP:20190226T145306Z
UID:20140826T064506Z_670338@groupspaces.com
DTSTART:20141025T213000Z
SUMMARY:Cancer Voices Challenge Ride 2014
DTEND:20141026T020000Z
DESCRIPTION:**Cancer Voices SA** will host a CHALLENGE RIDE on October 26t
 h\, following the same routes as our previous highly successful Challenge 
 and LiveStrong Day rides. This challenge ride is ***FREE*** and those who 
 are up to a challenge ride through the Adelaide Hills are welcome to regis
 ter. Show your support for the work we do and  **WEAR YELLOW** or your Can
 cer Voices SA jersey <http://groupspaces.com/CVSA/pages/team-jersey>.\n\nT
 he event will commence at  8:00 am at  Kensington Gardens Reserve <http://
 g.co/maps/a6tj> and comprise your choice of 3 Challenge rides (67km\, 35km
 \, 20km) that loop into the Adelaide hills and return to the start. Decide
  which Challenge ride you wish to do and then click on the "**Register Now
 **" button to enter your details.  \n  \n  \n\n\n| **67km**\n | detailed m
 aps <http://files.groupspaces.com/CVSA/files/1187104/SAeGEfSA06w72HuVYpTA/
 CVSA_Challenge_67km_Bikemap.pdf>\n | map+cue notes <http://files.groupspac
 es.com/CVSA/files/1187107/KR6gj6kKg9Ba21Qz8NkJ/CVSA_Challenge_Ride_2014_cu
 e_notes_67km.doc>\n | Bikely <http://www.bikemap.net/route/1166874>\n| **3
 5km**\n | detailed maps <http://files.groupspaces.com/CVSA/files/1187105/F
 4eYb3_qs1CqPrautdnZ/CVSA_Challenge_35km_Bikemap.pdf>\n | map+cue notes <ht
 tp://files.groupspaces.com/CVSA/files/1187108/Blp3gQTcx_ePGq0gglT4/CVSA_Ch
 allenge_Ride_2014_cue_notes_35km.doc>\n | Bikely <http://www.bikemap.net/r
 oute/1167425>\n| **20km**\n | detailed maps <http://files.groupspaces.com/
 CVSA/files/1187106/wDJ6mUgJ0ljDo8aTEM43/CVSA_Challenge_20km_Bikemap.pdf>\n
  | map+cue notes <http://files.groupspaces.com/CVSA/files/1187109/hzY6R5H_
 g6GHVDRT1v2v/CVSA_Challenge_Ride_2014_cue_notes_20km.doc>\n | Bikely <http
 ://www.bikemap.net/route/1162819>\n\nDownload the A4 poster <http://files.
 groupspaces.com/CVSA/files/1187089/VePjw0wVptn6OVqlh6LY/ART_CVSAChallenge_
 A4_2014_nobleed_EB.pdf> if you would like to promote this to your friends.
   \n  \nYou can check out photos <http://www.flickr.com/photos/cancervoice
 ssa/sets/> of previous challenge rides or our inaugural 2011 Challenge Rid
 e video <http://youtu.be/FRT3HkYTaXY>.  \n  \nNB.  Please be aware that yo
 u will need to carry your own food\, water and bike repair supplies approp
 riate for the route you choose to ride\, as there will not be mechanical s
 upport vehicles\, a sag-wagon\, or food and water stops organised along an
 y of the routes.\n\nRefreshments (water\, coffee\, food etc) will be avail
 able for purchase at the start and finish at Kensington Gardens Oval.  \n 
  \nThe CANCER VOICES SA CHALLENGE RIDE is an open road event.   \n  \nYou 
 will be required to read \, agree to and sign a waiver <http://files.group
 spaces.com/CVSA/files/1187101/pu6pTu_ZrRrZe7tr6kwV/Waiver_2014.pdf> and br
 ing on the day before you participate in the ride .   \nIf you are under 1
 8 years old you will be required to have a parent/guardian read \, agree t
 o and sign this child waiver <http://files.groupspaces.com/CVSA/files/1187
 102/lNDXrTRgkrOXXP85kmDM/Waiver_2014-child.pdf> and bring on the day befor
 e you participate in the ride .  \n  \n  \nYou will be sharing the road wi
 th traffic. SA Road rules apply including riding no more than two abreast 
 and then only when safe to do so. See more in Group Riding Tips <http://fi
 les.groupspaces.com/CVSA/files/490285/k7d3LgimSyoXzuzchyZj/Group+Riding+Ti
 ps.pdf>.\n\n    There will be a rider information & safety briefing 10 min
 s prior to the start.  \n  \n    ***INSURANCE***\n\nAnyone participating i
 n the Cancer Voices Challenge Ride event does so at their own risk of inju
 ry\, loss of life or damage to property. Cyclists participating in communi
 ty generated events should have their own cycling specific insurance.  \n 
  \n**EVENT CANCELLATION**  \nIf the Bureau of Meteorology forcast for extr
 eme weather conditions on the day then the organiser will determine if the
  event is to be modified or cancelled. 
ORGANIZER:Organizer
LOCATION:Kensington Gardens Reserve (Cnr West Tce and The Parade)
CLASS:PUBLIC
END:VEVENT
END:VCALENDAR
