BEGIN:VCALENDAR
VERSION:2.0
PRODID:-//GroupSpaces//NONSGML GS_IcalFeed//EN
X-WR-CALNAME:Ashleigh Moore Memorial Ride & Ceremony - CVSA Cycling Team
CALSCALE:GREGORIAN
METHOD:PUBLISH
BEGIN:VEVENT
DTSTAMP:20190226T145326Z
UID:20140318T074717Z_628665@groupspaces.com
DTSTART:20140328T230000Z
SUMMARY:Ashleigh Moore Memorial Ride & Ceremony
DTEND:20140329T010000Z
DESCRIPTION:On **Saturday 29th March** the family\, friends and colleagues
  of Ashleigh Moore are invited to gather for a **brief ceremony at Norton 
 Summit at 10.30am.**\n\nAshleigh’s wife Justine wishes to say a few words 
 and scatter some of his ashes around this spot which was so much a part of
  Ashleigh’s regular ride destinations for over 5yrs\, since forming the Ca
 ncer Voices SA cycling team in November 2008.  \n\nCyclists may start as a
  group from Kensington Park  Oval (cnr The Parade and West Tce)\, leaving 
 at 9.30am to ride up to Norton Summit.  Less experienced riders may wish t
 o ride up New Norton Summit Rd only\, eg from the bottom hairpin bend\, or
  from Morialta Vineyards – a relatively flat ride of about 1km distance. N
 B. Car parking is very limited at these spots.\n\n**Wear a Cancer Voices S
 A cycling jersey or item of yellow as a mark of respect and appreciation o
 f Ashleigh.**\n\n**Please register** if you intend to come (**drive or rid
 e**)\, to assist us know the sort of numbers we need to plan for.   On thi
 s narrow winding road\, riding single file is advised.\n\nLight refreshmen
 ts\, coffee/ cakes etc can be purchased at the Scenic Hotel.  Anyone wishi
 ng to stay on for lunch at the Scenic Hotel is advised to book a table in 
 advance.\n\nCar Parking spaces are available at Norton Summit behind The S
 ummit Community Centre\, 1 Crescent Drive\, Norton Summit.\n\nA rain-check
  may be called if the weather is very wet\, and the event deferred to the 
  Saturday\, 12th April\, same time\, same place.\n\n**A memorial book** fo
 r signing or leaving a thought about Ashleigh will be available.  If you h
 ave a photo you wish to add\, please bring that or send to info@cancervoic
 essa.org.au with your message\, to be printed and incorporated into the me
 morial book.
ORGANIZER:Organizer
LOCATION:Norton Summit (starting at Kensington Park Oval)
CLASS:PUBLIC
END:VEVENT
END:VCALENDAR
