BEGIN:VCALENDAR
VERSION:2.0
PRODID:-//GroupSpaces//NONSGML GS_IcalFeed//EN
X-WR-CALNAME:Cancer Voices Challenge Ride 2013 - CVSA Cycling Team
CALSCALE:GREGORIAN
METHOD:PUBLISH
BEGIN:VEVENT
DTSTAMP:20190226T145344Z
UID:20130920T081519Z_483996@groupspaces.com
DTSTART:20131019T213000Z
SUMMARY:Cancer Voices Challenge Ride 2013
DTEND:20131020T020000Z
DESCRIPTION:**Cancer Voices SA** will host a CHALLENGE RIDE on October 20t
 h\, following the same routes as our previous highly successful LiveStrong
  Day rides. This challenge ride is ***FREE*** and those who are up to a ch
 allenge ride through the Adelaide Hills are welcome to register. Show your
  support for the work we do and  **WEAR YELLOW** or your Cancer Voices SA 
 jersey <http://groupspaces.com/CVSA/pages/team-jersey>.\n\nThe event will 
 commence at  8:00 am at  Kensington Gardens Oval <http://g.co/maps/a6tj> a
 nd comprise your choice of 3 Challenge rides (67km\, 35km\, 20km) that loo
 p into the Adelaide hills and return to the start. Decide which Challenge 
 ride you wish to do and then click on the "**Register Now**" button to ent
 er your details.  \n  \n  \n\n\n| **67km**\n | detailed maps <http://files
 .groupspaces.com/CVSA/files/866496/94X3WHh5iYSDvoocAlw9/CVSA_Challenge_201
 3_67km_Bikemap.pdf>\n | map+cue notes <http://files.groupspaces.com/CVSA/f
 iles/866493/6lEzFVt0cWPdh1yySc9H/CVSA_Challenge_Ride_2013_cue_notes_67km.p
 df>\n | Bikely <http://www.bikemap.net/route/1166874>\n| **35km**\n | deta
 iled maps <http://files.groupspaces.com/CVSA/files/866495/1xOhnxALFTfbnitW
 BfJk/CVSA_Challenge_2013_35km_Bikemap.pdf>\n | map+cue notes <http://files
 .groupspaces.com/CVSA/files/866492/kpjE5xtPt6BhXJSyHwr1/CVSA_Challenge_Rid
 e_2013_cue_notes_35km.pdf>\n | Bikely <http://www.bikemap.net/route/116742
 5>\n| **20km**\n | detailed maps <http://files.groupspaces.com/CVSA/files/
 866494/p3lZlQ5UU1v0zpWdtF8g/CVSA_Challenge_2013_20km_Bikemap.pdf>\n | map+
 cue notes <http://files.groupspaces.com/CVSA/files/866491/YPqfUGPgShJaN9ml
 r2pX/CVSA_Challenge_Ride_2013_cue_notes_20km.pdf>\n | Bikely <http://www.b
 ikemap.net/route/1162819>\n\nDownload the A4 poster <http://files.groupspa
 ces.com/CVSA/files/867512/METUVAMkB3rNH8nLOaLi/ART_CVSAChallenge_A4_2013_n
 obleed_EB.pdf> if you would like to promote this to your friends.  \n  \nY
 ou can check out photos <http://www.flickr.com/photos/cancervoicessa/sets/
 > of previous challenge rides or our inaugural 2011 Challenge Ride video <
 http://youtu.be/FRT3HkYTaXY>.  \n  \nNB.  Please be aware that you will ne
 ed to carry your own food\, water and bike repair supplies appropriate for
  the route you choose to ride\, as there will not be mechanical support ve
 hicles\, a sag-wagon\, or food and water stops organised along any of the 
 routes.\n\nRefreshments (water\, coffee\, food etc) will be available for 
 purchase at the start and finish at Kensington Gardens Oval.  \n  \nThe CA
 NCER VOICES SA CHALLENGE RIDE is an open road event.   \n  \nYou will be r
 equired to read \, agree to and sign a waiver <http://files.groupspaces.co
 m/CVSA/files/866501/vNHfm8iwpwndl907UZQj/Waiver_2013.pdf> and bring on the
  day before you participate in the ride .   \nIf you are under 18 years ol
 d you will be required to have a parent/guardian read \, agree to and sign
  this child waiver <http://files.groupspaces.com/CVSA/files/866500/vr9JreF
 ULLBiCLQnBj38/Waiver_2013-child.pdf> and bring on the day before you parti
 cipate in the ride .  \n  \n****Bring your Registration to go in the draw 
 to **WIN A HELMET** <http://files.groupspaces.com/CVSA/files/878293/WhZ5YY
 GgwSVHyQ8bhHh4/con-helmet.jpg> kindly donated by **ROAD RAGE CYCLES <http:
 //www.roadragecycles.com.au/>.** (Thank You Brian!)****  \n  \nYou will be
  sharing the road with traffic. SA Road rules apply including riding no mo
 re than two abreast and then only when safe to do so. See more in Group Ri
 ding Tips <http://files.groupspaces.com/CVSA/files/490285/k7d3LgimSyoXzuzc
 hyZj/Group+Riding+Tips.pdf>.\n\n    There will be a rider information & sa
 fety briefing 10 mins prior to the start.  \n  \n    ***INSURANCE***\n\nAn
 yone participating in the Cancer Voices Challenge Ride event does so at th
 eir own risk of injury\, loss of life or damage to property. Cyclists part
 icipating in community generated events should have their own cycling spec
 ific insurance.  \n  \n**EVENT CANCELLATION**  \nIf the Bureau of Meteorol
 ogy forcast for extreme weather conditions on the day then the organiser w
 ill determine if the event is to be modified or cancelled. 
ORGANIZER:Organizer
LOCATION:Kensington Gardens Oval (Cnr West Tce and The Parade)
CLASS:PUBLIC
END:VEVENT
END:VCALENDAR
