BEGIN:VCALENDAR
VERSION:2.0
PRODID:-//GroupSpaces//NONSGML GS_IcalFeed//EN
X-WR-CALNAME:Sunday Group Ride - CVSA Cycling Team
CALSCALE:GREGORIAN
METHOD:PUBLISH
BEGIN:VEVENT
DTSTAMP:20190226T145428Z
UID:20130123T094030Z_389062@groupspaces.com
DTSTART:20130126T213000Z
SUMMARY:Sunday Group Ride
DESCRIPTION:***Group Rides*** will be available ***every Sunday***.  \nMee
 t and ride with others from the CVSA Team ****any Sunday. Meet at 8am at S
 t Peters Girls College car park\, Stonyfell.*****  \n*  \n***Everyone is W
 ELCOME*** especially our new Team members.   \nOur usual arrangements will
  be a few hours riding into the Hills\, followed by a brew at *Taylors Ble
 nd* on Hallet Rd\, Stonyfell.  \nPlease be aware that **riding with Cancer
  Voices SA is at your own risk**. \n\nRide safely\, adhere to road traffic
  laws and look after your riding buddies. \n\nTo become a member of Cancer
  Voices SA cycling team **we require you to be covered by accident insuran
 ce which includes 3rd party insurance**.  Cancer Voices SA suggest members
 hip with Cycling SA or BikeSA which provides the benefit of this insurance
 . See the Cycling SA accident insurance details here <http://www.cycling.o
 rg.au/default.asp?Page=8966&MenuID=Membership/20013/0/>.  See the BikeSA a
 ccident insurance details here <http://www.bikesa.asn.au/RiderInfo_Members
 hip_InsuranceFAQs>.
ORGANIZER:Organizer
LOCATION:Stonyfell
CLASS:PUBLIC
END:VEVENT
END:VCALENDAR
