BEGIN:VCALENDAR
VERSION:2.0
PRODID:-//GroupSpaces//NONSGML GS_IcalFeed//EN
X-WR-CALNAME:Cyclo Sportif Round 3 - CVSA Cycling Team
CALSCALE:GREGORIAN
METHOD:PUBLISH
BEGIN:VEVENT
DTSTAMP:20190226T145431Z
UID:20130123T093827Z_389046@groupspaces.com
DTSTART:20130209T223000Z
SUMMARY:Cyclo Sportif Round 3
DESCRIPTION:ROUND 3 Bowden Cyclo Sportif Series <http://www.sa.cycling.org
 .au/default.asp?Page=47367>
ORGANIZER:Organizer
LOCATION:Stonyfell
CLASS:PUBLIC
END:VEVENT
END:VCALENDAR
