BEGIN:VCALENDAR
VERSION:2.0
PRODID:-//GroupSpaces//NONSGML GS_IcalFeed//EN
X-WR-CALNAME:Cancer Voices Challenge Ride 2016 - CVSA Cycling Team
CALSCALE:GREGORIAN
METHOD:PUBLISH
BEGIN:VEVENT
DTSTAMP:20190226T145233Z
UID:20160814T045640Z_1070448@groupspaces.com
DTSTART:20161022T213000Z
SUMMARY:Cancer Voices Challenge Ride 2016
DTEND:20161023T020000Z
DESCRIPTION:**Cancer Voices SA** will host our 6th annual CHALLENGE RIDE o
 n Sunday October 23th\, following the same routes as in previous years. Th
 is challenge ride is ***FREE.***  Show your support for the work we do and
   **WEAR YELLOW** or your Cancer Voices SA jersey <http://groupspaces.com/
 CVSA/pages/team-jersey>.\n\nThe ride will commence at  8:00 am at  Kensing
 ton Gardens Reserve <http://goo.gl/96bMYF> on your choice from 3 Challenge
  ride options (67km\, 35km\, 20km) that loop into the Adelaide hills and r
 eturn to the start. To Register\, decide which Challenge ride you wish to 
 do and then click on the "**Register Now**" button to enter your details. 
  \n  \n  \n\n\n| **67km**\n | detailed maps <http://files.groupspaces.com/
 CVSA/files/1498990/_o7DekbDhIYFC_DsuuHo/CVSA_Challenge_67km_Bikemap.pdf>\n
  | map+cue notes <http://files.groupspaces.com/CVSA/files/1498993/sk709grR
 _zuhXZO7Ypa1/CVSA_Challenge_Ride_cue_notes_67km.pdf>\n | Bikely <http://ww
 w.bikemap.net/route/1166874>\n| **35km**\n | detailed maps <http://files.g
 roupspaces.com/CVSA/files/1498989/krDX3HrpQ9lRKIgJyD6T/CVSA_Challenge_35km
 _Bikemap.pdf>\n | map+cue notes <http://files.groupspaces.com/CVSA/files/1
 498992/oE5sTfWsRTGSDwY_qjW3/CVSA_Challenge_Ride_cue_notes_35km.pdf>\n | Bi
 kely <http://www.bikemap.net/route/1167425>\n| **20km**\n | detailed maps 
 <http://files.groupspaces.com/CVSA/files/1498988/Z97I7jPzF_tDtphFD2LO/CVSA
 _Challenge_20km_Bikemap.pdf>\n | map+cue notes <http://files.groupspaces.c
 om/CVSA/files/1498991/5WCzH1uP11x1Ts2ckHz9/CVSA_Challenge_Ride_cue_notes_2
 0km.pdf>\n | Bikely <http://www.bikemap.net/route/1162819>\n\nDownload the
  A4 Poster <http://files.groupspaces.com/CVSA/files/1782604/oBtve99bdNztzF
 D7AVZa/ART_CVSAChallenge_A4_2016_nobleed.pdf> or our postcard <http://file
 s.groupspaces.com/CVSA/files/1782605/aHy5iZvNVbujCD4fUUyX/ART_CVSAChalleng
 e_Postcard_2016_nobleed.jpg> if you would like to promote this through you
 r networks and to your friends.  \n  \nCheck out photos <http://www.flickr
 .com/photos/cancervoicessa/sets/> of previous challenge rides & our inaugu
 ral 2011 Challenge Ride video <http://youtu.be/FRT3HkYTaXY>.  \n  \nNB.  P
 lease be aware that you will need to carry your own food\, water and bike 
 repair supplies appropriate for the route you choose to ride\, as there wi
 ll not be mechanical support vehicles\, a sag-wagon\, or food and water st
 ops organised along any of the routes.\n\nRefreshments (water\, coffee\, f
 ood etc) will be available for purchase at the start and finish at Kensing
 ton Gardens Oval.  \n  \nThe CANCER VOICES SA CHALLENGE RIDE is an open ro
 ad event.   \n  \nYou will be required to read\, agree to and sign a waive
 r <http://files.groupspaces.com/CVSA/files/1782607/HO2xydalE7hCx1HynpfK/Wa
 iver_2016.pdf> then lodge it to the Registration Desk on the day before yo
 u participate in the ride .   \nIf you are under 18 years old you will be 
 required to have a parent/guardian read \, agree to and sign this child wa
 iver <http://files.groupspaces.com/CVSA/files/1782606/73tJIQbc7lR4S7xx1mje
 /Waiver_2016-child.pdf> and bring on the day before you participate in the
  ride .  \n  \n  \nYou will be sharing the road with traffic. SA Road rule
 s apply including riding no more than two abreast and then only when safe 
 to do so. See more in Group Riding Tips <http://files.groupspaces.com/CVSA
 /files/490285/k7d3LgimSyoXzuzchyZj/Group+Riding+Tips.pdf>.\n\n    There wi
 ll be a rider information & safety briefing 10 mins prior to the start.  \
 n  \n    ***INSURANCE***\n\nAnyone participating in the Cancer Voices Chal
 lenge Ride event does so at their own risk of injury\, loss of life or dam
 age to property. Cyclists participating in community generated events shou
 ld have their own cycling specific (including third party) insurance.  \n 
  \n**EVENT CANCELLATION**  \nIf the Bureau of Meteorology forcast for extr
 eme weather conditions on the day then the organiser will determine if the
  event is to be modified or cancelled. 
ORGANIZER:Organizer
LOCATION:Kensington Gardens Reserve (Cnr West Tce and The Parade)
CLASS:PUBLIC
END:VEVENT
END:VCALENDAR
