BEGIN:VCALENDAR
VERSION:2.0
PRODID:-//GroupSpaces//NONSGML GS_IcalFeed//EN
X-WR-CALNAME:Cancer Voices AGM 2015 - CVSA Cycling Team
CALSCALE:GREGORIAN
METHOD:PUBLISH
BEGIN:VEVENT
DTSTAMP:20190226T145258Z
UID:20151118T034613Z_1021263@groupspaces.com
DTSTART:20151122T003000Z
SUMMARY:Cancer Voices AGM 2015
DTEND:20151122T013000Z
DESCRIPTION:Annual General Meeting\, involving cancer survivors\, advocate
 s\, friends\, family\, cycling and walking group members.  \nDetails at ht
 tp://www.cancervoicessa.org.au/awareness/community-noticeboard  <http://ww
 w.cancervoicessa.org.au/awareness/community-noticeboard%C2%A0>\;
ORGANIZER:Organizer
LOCATION:Newland Park\, Hallett Rd\, Stonyfell
CLASS:PUBLIC
END:VEVENT
END:VCALENDAR
